{"text_format":"1","workbook":"xlsx","n_sheets":4,"sheets":["Criterios de Evaluación","Variables constantes","Equipos Disponibles","Precios Energía"],"not_rendered":{"charts":0,"images":9,"macros":1,"external_links":0,"defined_names":0,"comments":2,"pivot_tables":0},"unopened":[],"bounds":{"document_bytes":16777216,"sheet_cells":100000,"rows_first":2000,"rows_last":500,"rows_between":2000,"halvings":0,"cell_chars":16384,"cell_head_chars":4096},"cells_cut":0,"cells_raw":0,"read":"whole","date_system":"1900"}

{"sheet":"Criterios de Evaluación","index":0,"n_rows":56,"n_cols":19,"rows_kept":56,"cut":false,"hidden":false,"merged":[[53,0,53,2],[1,12,1,15],[1,17,1,18],[0,5,2,5],[9,1,9,4],[10,7,10,9],[23,1,23,3],[1,7,1,10],[49,0,49,2],[49,3,49,5]]}
[null,"Criterio 1","Criterio 2","Criterio 3","Criterio 4","TOTAL"]
[null,"Porcentaje del calor en juego en el proceso sobre el total consumido","Valor económico del calor requerido","Viabilidad técnico-económica del reciclado de energía.","Impacto  positivo sobre otros aspectos ambientales de la organización",null,null,"Valoración Criterio 1",null,null,null,null,"Valoración Criterio 2",null,null,null,null,"Valoración Criterio 3"]
["Ponderación",0.2,0.45,0.3,0.05,null,null,0,"a",0.09,0,null,0,"a",7.0000000000000007E-2,0,null,-2,"No viable"]
["Precalentamiento",0,1,0,0,{"$f":"0.2*B4+0.45*C4+0.3*D4+0.05*E4","v":0.45},null,0.1,"a",0.19,1,null,0.08,"a",0.15,1,null,0,"Viabilidad técnica pero no económica"]
["Maceración",1,1,-2,0,{"$f":"0.2*B5+0.45*C5+0.3*D5+0.05*E5","v":5.0000000000000044E-2},null,0.2,"a",0.28999999999999998,2,null,0.16,"a",0.23,2,null,1,"Viable"]
["Cocción",3,2,1,4,2,null,0.3,"a",0.39,3,null,0.24,"a",0.31,3]
["Enfriamiento",0,3,1,3,1.8000000000000003,null,0.4,"a",0.49,4,null,0.32,"a",0.39,4]
["Fermentación",4,4,-2,0,2,null,null,"> a ",0.5,5,null,null,"> a ",0.4,5]
[]
[null,"Valor Alcanzado Matematicamente"]
[null,"Criterio 1","Criterio 2 (Energía [m3]o[kWh])","Criterio 2 (Precio Mensual[US$])","Criterio 3 [Depreciación U$S/litro]",null,null,"Relación U$S - $"]
["Precalentamiento",121309.957773181,3.2442757213623503,{"$f":"('Precios Energía'!$B$3+'Precios Energía'!$C$3*'Criterios de Evaluación'!C12*16)/H12","v":20.487940980468384},1.1356249999999999E-3,null,null,25,":",1]
["Maceración ET1",76160.611042586403,2.0368156568941593]
["Maceración ET2",31963.661304827699,0.8548262009207237]
["Maceración ET3",37621.614314026803,1.0061407336870669]
["Maceracion Total",{"$f":"SUM(B13:B15)","v":145745.88666144092},{"$f":"SUM(C13:C15)","v":3.8977825915019499},{"$f":"('Precios Energía'!$B$3+'Precios Energía'!$C$3*'Criterios de Evaluación'!C16*16)/H12","v":21.955978813549983}]
["Cocción",462939.21662365802,12.380702198963897,{"$f":"('Precios Energía'!$B$3+'Precios Energía'!$C$3*'Criterios de Evaluación'!C17*16)/H12","v":41.012009419752502},8.2312500000000007E-4]
["Enfriamiento",4026.77957557743,0.67228915662650601,{"$f":"('Precios Energía'!$B$4+'Precios Energía'!$C$4*'Criterios de Evaluación'!C18*16)/H12","v":55.23008385542169},1.0990208333333329E-3]
["Fermentación ET1",40695.300000000003,29.96993544401607]
["Fermentación ET2",80237,59.090305519839326]
["Fermentacion Total",{"$f":"SUM(B19:B20)*5.25","v":634894.57500000007},{"$f":"SUM(C19:C20)","v":89.060240963855392},{"$f":"('Precios Energía'!B4+'Precios Energía'!C4*'Criterios de Evaluación'!C21*4)/H12","v":90.884067469879497}]
["TOTAL",{"$f":"B12+B16+B17+B18+B21","v":1368916.4156338575},{"$f":"C12+C16+C17+C18+C21","v":109.25529063231009},229.57008053907208,{"$f":"SUM(E12,E17,E18)","v":3.0577708333333329E-3}]
[]
[null,"Valor Porcentual"]
["Precalentamiento",{"$f":"B12/B22","v":8.8617505340536168E-2},{"$f":"C12/C22","v":2.9694449601353399E-2},{"$f":"D12/D22","v":8.9244822027151754E-2}]
["Maceracion Total",{"$f":"B16/B22","v":0.10646806846417671},{"$f":"C16/C22","v":3.5675916186243321E-2},{"$f":"D16/D22","v":9.5639548333098859E-2}]
["Cocción",{"$f":"B17/B22","v":0.33817931565186216},{"$f":"C17/C22","v":0.11331901757169963},{"$f":"D17/D22","v":0.17864701412069414}]
["Enfriamiento",{"$f":"B18/B22","v":2.9415817719688066E-3},{"$f":"C18/C22","v":6.1533785021820244E-3},{"$f":"D18/D22","v":0.24058049605476228}]
["Fermentacion Total",{"$f":"B21/B22","v":0.46379352877145613},{"$f":"C21/C22","v":0.8151572381385217},{"$f":"D21/D22","v":0.39588811946429286}]
["TOTAL",{"$f":"B25+B26+B27+B28+B29","v":1},{"$f":"C25+C26+C27+C28+C29","v":1},{"$f":"D25+D26+D27+D28+D29","v":1}]
[]
[null,"Criterio 3 "]
[null,"Energía Residual",null,"Precio energia por lote (U$S)"]
["Precalentamiento",null,null,1.02439704902342]
["Maceracion Total",null,null,1.0977989406774999]
["Cocción",191845,null,2.05060047098763]
["Enfriamiento",180463.23944599999,null,2.7615041927710799]
["Fermentacion Total",null,null,4.5442033734939704]
[]
[null,"Energía aprovechada","Energía aprovechada [m3]","Ahorro implicado [m3]","Valor variable de ahorro por lote ($)","Valor variable de ahorro por lote (U$S)"]
["Estrategia 1",100984.782608696,2.7007055682685066,3.6693665516404583,{"$f":"D41*'Precios Energía'!C3","v":12.879476596258009},{"$f":"E41/H$12","v":0.51517906385032031}]
["Estrategia 2",18875.208333333299,0.50479269184139119,4.0088401142457748,{"$f":"D42*'Precios Energía'!C3","v":14.071028801002669},{"$f":"E42/H$12","v":0.56284115204010676}]
["Estrategia 3",94376.041666666701,2.5239634592069615,3.2442757213623503,{"$f":"D43*'Precios Energía'!C3","v":11.38740778198185},0.45549631127927398]
[]
[null,"Ahorro implicado","Valor Monetario por lote ($)","Valor Monetario por mes ($)","Valor Monetario por lote (U$S)"]
["Estrategia 1",137204.95409894001,29.379476596258009,587.58953192516014,{"$f":"C46/$H$12","v":1.1751790638503203}]
["Estrategia 2",149898.54955187801,30.571028801002672,611.42057602005343,{"$f":"C47/$H$12","v":1.2228411520401068}]
["Estrategia 3",121309.957773181,27.887407781981846,557.74815563963693,1.1154963112792737]
[]
["Etapa calentamiento: combina estrategia 2 + 3 [POR LOTE]",null,null,"Etapa enfriamiento: combina estrategia 1 + 2 + 3 [POR LOTE]"]
["Ahorro energético","Energia Aprovechada","Ahorro monetario","Ahorro energético","Energia Aprovechada","Ahorro monetario"]
[{"$f":"B47+B48","v":271208.50732505904},{"$f":"B42+B43","v":113251.25},{"$f":"F42+F43","v":1.0183374633193807},{"$f":"B46+B47+B48","v":408413.46142399905},{"$f":"B41+B42+B43","v":214236.032608696},{"$f":"F41+F42+F43","v":1.5335165271697011}]
[]
["Etapa cocción: unicamente estrategia 1 [POR LOTE]"]
["Ahorro energético","Energia Aprovechada","Ahorro monetario"]
[{"$f":"B46","v":137204.95409894001},{"$f":"B41","v":100984.782608696},{"$f":"F41","v":0.51517906385032031}]

{"sheet":"Variables constantes","index":1,"n_rows":86,"n_cols":35,"rows_kept":86,"cut":false,"hidden":false,"merged":[[1,15,1,18],[85,0,86,0],[16,0,18,0],[19,0,21,1],[72,0,72,10],[11,0,11,10],[54,0,54,10],[39,0,39,10],[49,0,50,0],[23,0,23,10],[26,3,27,3],[28,3,29,3],[30,3,31,3],[12,11,12,12],[14,15,14,16],[14,11,14,14],[32,34,32,36],[69,0,70,0],[49,15,49,17],[58,3,60,3],[32,15,32,17],[32,24,32,26]]}
["Variable","Valor","Unidad","Observaciones"]
["Coeficiente de convección del aire (h)",2.5000000000000001E-2,"kW/m2K"]
["Temperatura ambiente",20,"ºC"]
["Densidad del agua",989,"kg/m3"]
["Cp del agua",4.2140000000000004,"kJ/kg.K"]
["Presión atmosférica",1,"atm "]
["Calor de Vaporización",2257,"kJ/kg "]
["Entalpía de fermentación",79,"kJ/mol"]
["Factor de aprovechamiento",0.8,"adimensional"]
["π",{"$f":"PI()","v":3.1415926535897931}]
[]
["Precalentamiento"]
["Variable","Valor","Unidad","Observaciones",null,null,null,null,null,null,null,"Calor requerido:"]
["Tiempo de proceso",{"$f":"1800/60","v":30},"min","(1ºC/min)"]
["Temperatura inicial",20,"ºC",null,null,null,null,null,null,null,null,"La ecuación puede simplificarse a:",null,null,null,"A . V = f . Q - C"]
["Temperatura final",50,"ºC"]
["Cálculo de Calor Residual [kJ]"]
[]
[]
["Se conoce el comportamiento de Temperatura en funcion del tiempo como:"]
[]
[]
[]
["Maceración"]
["Variable","Valor","Unidad","Observaciones",null,null,null,null,null,null,null,null,"MACERACIÓN ETAPA I (50°C a 67°C)",null,null,null,null,null,null,null,null,"MACERACIÓN ETAPA II (30 minutos a 67°C y luego calentamiento a 72°C)",null,null,null,null,null,null,null,null,null,"MACERACIÓN ETAPA III (30 minutos a 72°C y luego calentamiento a 78°C)"]
["Tiempo total del proceso",107,"min"]
["Tiempo etapa I constante",20,"min","Cálculo de Calor Residual [kJ]"]
["Tiempo etapa I calentamiento ",17,"min"]
["Tiempo etapa II constante",30,"min","Cálculo de Calor Residual [kJ]"]
["Tiempo etapa II calentamiento",5,"min"]
["Tiempo etapa III constante",30,"min","Cálculo de Calor Residual [kJ]"]
["Tiempo etapa III calentamiento",6,"min"]
["Temperatura inicial",50,"ºC",null,null,null,null,null,null,null,null,null,"La ecuación puede simplificarse a:",null,null,"A.V=f.Q-C1-C2",null,null,null,null,null,"La ecuación puede simplificarse a:",null,null,"A.V=f.Q-C1-C2",null,null,null,null,null,null,"La ecuación puede simplificarse a:",null,null,"A.V=f.Q-C1-C2"]
["Temperatura etapa I",67,"ºC"]
["Temperatura etapa II",72,"ºC"]
["Temperatura etapa III",78,"ºC"]
["Agua de lavado ",60,"%","del volumen inicial"]
[]
[]
["Cocción"]
["Variable","Valor","Unidad","Observaciones",null,null,null,null,null,null,null,null,"COCCIÓN DEL MOSTO"]
["Densidad del Mosto ",1030,"kg/m3"]
["Cp del Mosto",4.0999999999999996,"kJ/kg.K"]
["Vapor de cocción",8.5,"%","del volumen"]
["λ (calor de vaporización)",2257," kJ/kg"]
["Tiempo etapa I (hasta ebullir) ",20,"min"]
["Tiempo etapa II (ebulliendo)",90,"min"]
["Temperatura inicial",79,"ºC"]
["Temperatura final",100,"ºC"]
["Cálculo de Calor Residual [kJ]",null,null,null,null,null,null,null,null,null,null,null,"La ecuación puede simplificarse a:",null,null,"A.V=f.Q-C1-C2-B.V"]
[]
[]
[]
[]
["Enfriamiento"]
["Variable","Valor","Unidad","Observaciones"]
["Densidad del Mosto ",1030,"kg/m3"]
["Cp glicol",2.4079999999999999,"kJ/kg.K"]
["Caudal mosto dulce",1060,"l/h","Varia según el volumen de entrada"]
["Caudal glicol",1300,"l/h"]
["Caudal agua de red",1566,"l/h"]
["Tiempo total del proceso",45,"min"]
["Tiempo agua de red",30,"min"]
["Tiempo glicol",15,"min"]
["Temperatura inicial mosto",100,"ºC"]
["Temperatura inicial agua de red",20,"°C"]
["Temperatura fin etapa agua de red",30,"°C"]
["Temperatura inicial glicol",0,"°C"]
["Temperatura fin etapa glicol",16,"ºC"]
["Cálculo de Energía Necesaria",{"$f":"1/1.341022","v":0.74569992140322827},"HP a kJ/s"]
[]
[]
["Fermentación"]
["Variable","Valor","Unidad","Observaciones"]
["Capacidad de remoción del calor",1300,"kJ/kg","Del amoníaco"]
["Entalpía de reacción",79,"kJ/mol"]
["Gravedad específica",9,"%"]
["Temperatura primaria de fermentación",20,"°C"]
["Temperatura inicial",16,"ºC"]
["Temperatura final",1,"°C"]
["Tiempo de fermentación primaria",12,"h"]
["Tiempo de fermentación",96,"h"]
["Tiempo de maduración",18,"h"]
["Tiempo total",{"$f":"SUM(B81:B83)","v":126}]
["Equivalencia entálpica",439,"kJ/kg"]
["Cálculo de Calor Residual [kJ]"]

{"sheet":"Equipos Disponibles","index":2,"n_rows":44,"n_cols":27,"rows_kept":44,"cut":false,"hidden":false,"merged":[[28,21,28,22],[28,23,28,24],[28,25,28,26],[35,20,36,20],[38,21,38,22],[35,21,36,23],[18,12,18,14],[0,0,0,9],[0,12,0,17],[11,15,11,16],[12,15,12,16],[13,12,15,12],[13,13,15,13],[13,14,15,14],[13,17,15,17],[8,12,10,12],[8,13,10,13],[8,14,10,14],[8,17,10,17],[11,12,12,12],[2,12,4,12],[2,13,4,13],[28,8,28,9],[19,0,19,1],[19,2,19,3],[19,4,19,5],[19,6,19,7],[19,8,19,9],[28,0,28,1],[28,2,28,3],[28,4,28,5],[28,6,28,7],[1,6,1,7],[1,8,1,9],[10,0,10,1],[10,2,10,3],[10,4,10,5],[10,6,10,7],[10,8,10,9],[1,0,1,1],[1,4,1,5],[1,2,1,3],[2,17,4,17],[5,12,7,12],[5,13,7,13],[5,14,7,14],[5,17,7,17],[2,14,4,14],[38,13,38,14],[28,13,28,14],[28,15,28,16],[28,17,28,18],[35,12,36,12]]}
["Intercambiadores de Placas",null,null,null,null,null,null,null,null,null,null,null,"Equipos"]
["Volumen",null,"Densidad",null,"Caudal",null,"Temperatura ingreso",null,"Temperatura egreso",null,null,null,"Etapa","Nombre del equipo","Capacidad","Dimensiones","Medida (m)","Material"]
[600,"l ",981.7,"kg/m3",0.6,"m3/h",99,"ºC",30,"ºC","Cerveza (medio caliente)",null,"Calentamiento de agua","Depósito generador de agua caliente.","690 l brutos","Altura",1.8,"acero inoxidable AISI 316"]
[30,"placas",995.7,"kg/m3",1.94,"m3/h",15,"ºC",68,"ºC","Agua (medio frío)",null,null,null,null,"Diametro",0.7]
[837,"euros",null,{"$f":"A5*1.14","v":954.18},"U$S",null,null,null,817,"l/30min",null,null,null,null,null,"Espesor",0.01]
[null,null,null,null,null,null,null,null,null,null,null,null,"Maceración","Cuba de mezclado/filtrado","690 l brutos","Altura",1.8,"acero inoxidable AISI 304"]
[600,"l ",1008.5,"kg/m3",0.6,"m3/h",30,"ºC",16,"ºC","Cerveza (medio caliente)",null,null,null,null,"Diametro",0.7]
[12,"placas",1000.3,"kg/m3",1.1399999999999999,"m3/h",5,"ºC",12,"ºC","Glicol (medio frío)",null,null,null,null,"Espesor",0.01]
[561,"euros",null,{"$f":"A9*1.14","v":639.54},"U$S",null,null,null,null,null,null,null,"Cocción","Cuba de cocción a fuego directo","950 l brutos","Altura",1.5,"acero inoxidable AISI 304"]
[null,null,null,null,null,null,null,null,null,null,null,null,null,null,null,"Diametro",0.9]
["Volumen",null,"Densidad",null,"Caudal",null,"Temperatura ingreso",null,"Temperatura egreso",null,null,null,null,null,null,"Espesor",0.02]
[1100,"l ",981.7,"kg/m3",1.1000000000000001,"m3/h",99,"ºC",30,"ºC","Cerveza (medio caliente)",null,"Enfriamiento","Intercambiador de calor de 4 placas.","1800 l/h","4 placas de 0,4 m2",null,"acero inoxidable AISI 316"]
[20,"placas",995.7,"kg/m3",3.55,"m3/h",15,"ºC",35,"ºC","Agua (medio frío)",null,null,"Intercambiador de calor de 2 placas.","1300 l/h","2 placas de 0,4 m2",null,"acero inoxidable AISI 316"]
[1290,"euros",null,{"$f":"A14*1.14","v":1470.6},"U$S",null,null,null,null,null,null,null,"Fermentación","Tanques de fermentación cilíndricos con camisa interior.","850 l brutos","Altura",1.4,"acero inoxidable AISI 316"]
[null,null,null,null,null,null,null,null,null,null,null,null,null,null,null,"Diametro",0.9]
[1100,"l ",1008.5,"kg/m3",1.1000000000000001,"m3/h",30,"ºC",16,"ºC","Cerveza (medio caliente)",null,null,null,null,"Espesor",0.2]
[20,"placas",1000.3,"kg/m3",2.1,"m3/h",5,"ºC",12,"ºC","Glicol (medio frío)"]
[697,"euros",null,{"$f":"A18*1.14","v":794.57999999999993},"U$S"]
[null,null,null,null,null,null,null,null,null,null,null,null,"Bomba"]
["Volumen",null,"Densidad",null,"Caudal",null,"Temperatura ingreso",null,"Temperatura egreso",null,null,null,"Potencia",1,"HP"]
[1300,"l ",1025.0999999999999,"kg/m3",1.3,"m3/h",99,"ºC",30,"ºC","Cerveza (medio caliente)",null,"Tensión ","3x380","V"]
[17,"placas",995.7,"kg/m3",2.9,"m3/h",15,"ºC",45,"ºC","Agua (medio frío)",null,"Velocidad",3000,"rpm"]
[1184,"euros",null,{"$f":"A23*1.14","v":1349.76},"U$S",null,null,null,null,null,null,null,"Frecuencia",50,"hz"]
[null,null,null,null,null,null,null,null,null,null,null,null,"Presión descarga",44105,"MCA"]
[1300,"l ",1036.0999999999999,"kg/m3",1.3,"m3/h",30,"ºC",16,"ºC","Cerveza (medio caliente)",null,"Vida útil",8,"años"]
[9,"placas",999.94,"kg/m3",1.8,"m3/h",5,"ºC",15,"ºC","Glicol (medio frío)",null,"Caudal","1000 a 9000","l/h"]
[944,"euros",null,{"$f":"A27*1.14","v":1076.1599999999999},"U$S"]
[]
["Volumen",null,"Densidad",null,"Caudal",null,"Temperatura ingreso",null,"Temperatura egreso",null,null,null,"Equipos","Capacidad",null,"Precio",null,"Vida útil",null,null,"Equipos","Capacidad",null,"Precio",null,"Vida útil"]
[1650,"l ",1025.0999999999999,"kg/m3",1.7,"m3/h",99,"ºC",30,"ºC","Cerveza (medio caliente)",null,"Juego de Intercambiadores de calor",600,"l",{"$f":"SUM(D5,D9)","v":1593.7199999999998},"U$S",12,"años",null,"Intercambiador de calor (agua de red)",600,"l",{"$f":"D5","v":954.18},"U$S",12,"años"]
[19,"placas",995.7,"kg/m3",3.7,"m3/h",15,"ºC",45,"ºC","Agua (medio frío)",null,"Juego de Intercambiadores de calor",1100,"l",{"$f":"SUM(D14,D18)","v":2265.1799999999998},"U$S",12,"años",null,"Intercambiador de calor (agua de red)",1100,"l",{"$f":"D14","v":1470.6},"U$S",12,"años"]
[1244,"euros",null,{"$f":"A32*1.14","v":1418.1599999999999},"U$S",null,null,null,null,null,null,null,"Juego de Intercambiadores de calor",1300,"l",{"$f":"SUM(D23,D27)","v":2425.92},"U$S",12,"años",null,"Intercambiador de calor (agua de red)",1300,"l",{"$f":"D23","v":1349.76},"U$S",12,"años"]
[null,null,null,null,null,null,null,null,null,null,null,null,"Juego de Intercambiadores de calor",1650,"l",{"$f":"SUM(D32,D36)","v":2562.7199999999998},"U$S",12,"años",null,"Intercambiador de calor (agua de red)",1650,"l",{"$f":"D32","v":1418.1599999999999},"U$S",12,"años"]
[1650,"l ",1036.0999999999999,"kg/m3",1.7,"m3/h",30,"ºC",16,"ºC","Cerveza (medio caliente)",null,"Bomba","1000 a 9000","l/h",600,"U$S",8,"años"]
[11,"placas",999.94,"kg/m3",2.2000000000000002,"m3/h",5,"ºC",15,"ºC","Glicol (medio frío)"]
[1004,"euros",null,{"$f":"A36*1.14","v":1144.56},"U$S",null,null,null,null,null,null,null,"Depreciación",null,null,null,null,null,null,null,"Depreciación"]
[]
[]
[null,null,null,null,null,null,null,null,null,null,null,null,"Equipos","Depreciación anual",null,null,null,null,null,null,"Equipos","Depreciación anual"]
[null,null,null,null,null,null,null,null,null,null,null,null,"Intercambiador de calor",{"$f":"P30/R30","v":132.80999999999997},"U$S",null,null,null,null,null,"Intercambiador de calor",{"$f":"X30/Z30","v":79.515000000000001},"U$S"]
[null,null,null,null,null,null,null,null,null,null,null,null,"Intercambiador de calor",{"$f":"P31/R31","v":188.76499999999999},"U$S",null,null,null,null,null,"Intercambiador de calor",{"$f":"X31/Z31","v":122.55},"U$S"]
[null,null,null,null,null,null,null,null,null,null,null,null,"Intercambiador de calor",202.16,"U$S",null,null,null,null,null,"Intercambiador de calor",112.48,"U$S"]
[null,null,null,null,null,null,null,null,null,null,null,null,"Intercambiador de calor",213.55999999999997,"U$S",null,null,null,null,null,"Intercambiador de calor",118.17999999999999,"U$S"]
[null,null,null,null,null,null,null,null,null,null,null,null,"Bomba",75,"U$S"]

{"sheet":"Precios Energía","index":3,"n_rows":5,"n_cols":13,"rows_kept":5,"cut":false,"hidden":false,"merged":[[0,0,0,3],[4,8,4,9],[1,5,1,6],[1,8,1,9],[1,11,1,12],[1,2,1,3]]}
["TARIFAS"]
[null,"Componente fija [$]","Componente variable",null,null,"Poder Calorífico Gas",null,null,"Bomba enfriamiento",null,null,"Bomba fermentacion"]
["Gas",330,3.51,"[$/m3]",null,37392,"kJ/m3 ",null,{"$f":"0.558/830","v":6.722891566265061E-4},"kWh/litro",null,{"$f":"73.92/830","v":8.9060240963855425E-2},"kWh/litro"]
["Electricidad",1353,2.58,"[$/kWh]",null,null,null,null,{"$f":"I3*3600","v":2.4202409638554219},"kJ/litro",null,{"$f":"L3*3600","v":320.61686746987954},"kJ/litro"]
[null,null,null,null,null,null,null,null,"1kWh=3600kJ"]